BEGIN:VCALENDAR
VERSION:2.0
PRODID:-//ChamberMaster//Event Calendar 2.0//EN
METHOD:PUBLISH
X-PUBLISHED-TTL:P3D
REFRESH-INTERVAL:P3D
CALSCALE:GREGORIAN
BEGIN:VEVENT
DTSTART:20170520T190000Z
DTEND:20170520T220000Z
X-MICROSOFT-CDO-ALLDAYEVENT:FALSE
SUMMARY:Color Downtown 2017
DESCRIPTION:Color Downtown 2017 is an event the whole family will enjoy ... dance and twirl with your tutu\, hop\, skip\, run or walk your way through downtown Mocksville and Rich Park and be transformed into a colorful work of art with each color station you pass.
X-ALT-DESC;FMTTYPE=text/html:Color Downtown 2017 is an event the whole family will enjoy ... dance and twirl with your tutu\, hop\, skip\, run or walk your way through downtown Mocksville and Rich Park and be transformed into a colorful work of art with each color station you pass.
LOCATION:Rich Park Cemetery St. Mocksville\, NC 27028
UID:e.2378.11397
SEQUENCE:3
DTSTAMP:20260422T072306Z
URL:https://business.daviechamber.com/events/details/color-downtown-2017-11397
END:VEVENT

END:VCALENDAR
