BEGIN:VCALENDAR
VERSION:2.0
PRODID:-//ChamberMaster//Event Calendar 2.0//EN
METHOD:PUBLISH
X-PUBLISHED-TTL:P3D
REFRESH-INTERVAL:P3D
CALSCALE:GREGORIAN
BEGIN:VEVENT
DTSTART:20160109T120000Z
DTEND:20160109T150000Z
X-MICROSOFT-CDO-ALLDAYEVENT:FALSE
SUMMARY:Community Breakfast (Big Brothers Big Sisters)
DESCRIPTION:Join us for eggs\, bacon\, country ham\, sausage\, cooked apples\, and milk gravy. Your donation helps change the life of a child for the better forever!
X-ALT-DESC;FMTTYPE=text/html:Join us for eggs\, bacon\, country ham\, sausage\, cooked apples\, and milk gravy. Your donation helps change the life of a child for the better forever!
LOCATION:First Presbyterian Church 261 S. Main St\, Mocksville
UID:e.2378.4530
SEQUENCE:3
DTSTAMP:20260423T070200Z
URL:https://business.daviechamber.com/events/details/community-breakfast-big-brothers-big-sisters-01-09-2016-4530
END:VEVENT

END:VCALENDAR
