BEGIN:VCALENDAR
VERSION:2.0
PRODID:-//ChamberMaster//Event Calendar 2.0//EN
METHOD:PUBLISH
X-PUBLISHED-TTL:P3D
REFRESH-INTERVAL:P3D
CALSCALE:GREGORIAN
BEGIN:VEVENT
DTSTART:20180210T123000Z
DTEND:20180210T150000Z
X-MICROSOFT-CDO-ALLDAYEVENT:FALSE
SUMMARY:Community Breakfast to Benefit the Dragonfly House
DESCRIPTION:Come out for a delicious breakfast with your Dragonfly friends!  Breakfast is free\, donations are accepted.
X-ALT-DESC;FMTTYPE=text/html:Come out for a delicious breakfast with your Dragonfly friends!&nbsp\; Breakfast is free\, donations are accepted.&nbsp\;&nbsp\;&nbsp\;&nbsp\;
LOCATION:First Presbyterian Church 261 South Main Street Mocksville\, NC 27028
UID:e.2378.13582
SEQUENCE:3
DTSTAMP:20260421T193633Z
URL:https://business.daviechamber.com/events/details/community-breakfast-to-benefit-the-dragonfly-house-13582
END:VEVENT

END:VCALENDAR
