BEGIN:VCALENDAR
VERSION:2.0
PRODID:-//ChamberMaster//Event Calendar 2.0//EN
METHOD:PUBLISH
X-PUBLISHED-TTL:P3D
REFRESH-INTERVAL:P3D
CALSCALE:GREGORIAN
BEGIN:VEVENT
DTSTART:20251017T210000Z
DTEND:20251018T000000Z
X-MICROSOFT-CDO-ALLDAYEVENT:FALSE
SUMMARY:Community Day | Bermuda Village
DESCRIPTION:You're invited to Bermuda Village Community Day! \n\nJoin us on Friday\, October 17th from 5 8 PM for an evening filled with fun\, food\, and festivities! \n\nEnjoy BBQ on the patio\, live music by Dancing to the Penny Candy Band\, wine tastings from local wineries\, and games like corn hole\, croquet\, and shuffleboard. \n\n\n	 This is also a perfect time to tour Bermuda Village and see all that our community has to offer. Come learn about our new Bermuda Bridge program and enter to win a door prize just for taking a tour!\n\n\n 142 Bermuda Village Drive\n\n RSVP / More info: Vicki Twyman   336-998-6535
X-ALT-DESC;FMTTYPE=text/html:<div class="xdj266r x14z9mp xat24cr x1lziwak x1vvkbs" style="overflow-wrap: break-word\; margin-inline: 0px\; margin-bottom: 0px\; margin-top: 0px\; font-family: &quot\;Segoe UI Historic&quot\;\, &quot\;Segoe UI&quot\;\, Helvetica\, Arial\, sans-serif\; color: rgb(8\, 8\, 9)\; font-size: 15px\;"><span style="font-size:16px\;"><span style="font-family:tahoma\;">You&#39\;re invited to Bermuda Village Community Day!&nbsp\;</span></span></div>\n\n<div class="x14z9mp xat24cr x1lziwak x1vvkbs xtlvy1s" style="overflow-wrap: break-word\; margin-top: 0.5em\; margin-inline: 0px\; margin-bottom: 0px\; font-family: &quot\;Segoe UI Historic&quot\;\, &quot\;Segoe UI&quot\;\, Helvetica\, Arial\, sans-serif\; color: rgb(8\, 8\, 9)\; font-size: 15px\;"><span style="font-size:16px\;"><span style="font-family:tahoma\;">Join us on Friday\, October 17th from 5&ndash\;8 PM for an evening filled with fun\, food\, and festivities!&nbsp\;<br class="html-br" />\nEnjoy BBQ on the patio\, live music by Dancing to the Penny Candy Band\, wine tastings from local wineries\, and games like corn hole\, croquet\, and shuffleboard.&#8203\;</span></span></div>\n\n<ul>\n	<li class="x14z9mp xat24cr x1lziwak x1vvkbs xtlvy1s" style="overflow-wrap: break-word\; margin-top: 0.5em\; margin-inline: 0px\; margin-bottom: 0px\; font-family: &quot\;Segoe UI Historic&quot\;\, &quot\;Segoe UI&quot\;\, Helvetica\, Arial\, sans-serif\; color: rgb(8\, 8\, 9)\; font-size: 15px\;"><span style="font-size:16px\;"><span style="font-family:tahoma\;">&nbsp\;This is also a perfect time to tour Bermuda Village and see all that our community has to offer. Come learn about our new Bermuda Bridge program and enter to win a door prize just for taking a tour!</span></span></li>\n</ul>\n\n<div class="x14z9mp xat24cr x1lziwak x1vvkbs xtlvy1s" style="overflow-wrap: break-word\; margin-top: 0.5em\; margin-inline: 0px\; margin-bottom: 0px\; font-family: &quot\;Segoe UI Historic&quot\;\, &quot\;Segoe UI&quot\;\, Helvetica\, Arial\, sans-serif\; color: rgb(8\, 8\, 9)\; font-size: 15px\;"><span style="font-size:16px\;"><span style="font-family:tahoma\;">&nbsp\;142 Bermuda Village Drive<br class="html-br" />\n&nbsp\;RSVP / More info: Vicki Twyman &ndash\; 336-998-6535</span></span></div>\n
LOCATION:Bermuda Village
UID:e.2378.28939
SEQUENCE:3
DTSTAMP:20260425T220949Z
URL:https://business.daviechamber.com/events/details/community-day-bermuda-village-28939
END:VEVENT

END:VCALENDAR
