BEGIN:VCALENDAR
VERSION:2.0
PRODID:-//ChamberMaster//Event Calendar 2.0//EN
METHOD:PUBLISH
X-PUBLISHED-TTL:P3D
REFRESH-INTERVAL:P3D
CALSCALE:GREGORIAN
BEGIN:VEVENT
DTSTART:20230805T220000Z
DTEND:20230806T010000Z
X-MICROSOFT-CDO-ALLDAYEVENT:FALSE
SUMMARY:Concert in the Park: Chairmen of the Board & The Band Tess
DESCRIPTION:Come and enjoy some Saturday night entertainment at the Davie County Community Park!\n\nLive music performances will be at the amphitheater. Bring your chairs and/or blankets for you and your crew on the civic green!\n\nFREE Admission - Food Vendors - Beverages - Quality Entertainment!
X-ALT-DESC;FMTTYPE=text/html:<div class="kvgmc6g5 cxmmr5t8 oygrvhab hcukyx3x c1et5uql" style="overflow-wrap: break-word\; margin: 0px\; font-family: &quot\;Segoe UI Historic&quot\;\, &quot\;Segoe UI&quot\;\, Helvetica\, Arial\, sans-serif\; color: rgb(5\, 5\, 5)\; font-size: 15px\;">Come and enjoy some Saturday night entertainment at the Davie County Community Park!</div>\n\n<div class="cxmmr5t8 oygrvhab hcukyx3x c1et5uql o9v6fnle" style="overflow-wrap: break-word\; margin: 0.5em 0px 0px\; font-family: &quot\;Segoe UI Historic&quot\;\, &quot\;Segoe UI&quot\;\, Helvetica\, Arial\, sans-serif\; color: rgb(5\, 5\, 5)\; font-size: 15px\;">Live music performances will be at the amphitheater. Bring your chairs and/or blankets for you and your crew on the civic green!</div>\n\n<div class="cxmmr5t8 oygrvhab hcukyx3x c1et5uql o9v6fnle" style="overflow-wrap: break-word\; margin: 0.5em 0px 0px\; font-family: &quot\;Segoe UI Historic&quot\;\, &quot\;Segoe UI&quot\;\, Helvetica\, Arial\, sans-serif\; color: rgb(5\, 5\, 5)\; font-size: 15px\;">FREE Admission - Food Vendors - Beverages - Quality Entertainment!</div>\n
LOCATION:Davie County Community Park
UID:e.2378.22898
SEQUENCE:3
DTSTAMP:20260425T202052Z
URL:https://business.daviechamber.com/events/details/concert-in-the-park-chairmen-of-the-board-the-band-tess-22898
END:VEVENT

END:VCALENDAR
