BEGIN:VCALENDAR
VERSION:2.0
PRODID:-//ChamberMaster//Event Calendar 2.0//EN
METHOD:PUBLISH
X-PUBLISHED-TTL:P3D
REFRESH-INTERVAL:P3D
CALSCALE:GREGORIAN
BEGIN:VEVENT
DTSTART:20230708T230000Z
DTEND:20230709T020000Z
X-MICROSOFT-CDO-ALLDAYEVENT:FALSE
SUMMARY:Concert on the Square - Featuring Moxie
DESCRIPTION:Downtown Mocksville will be ROCKIN' with tunes of Moxie...a high energy band featuring RNB and Funk of the 60's\, 70's\, and 80's. This is one of Mocksville's favorite bands every time they are in town! NO COOLER\, PLS. Alcohol can be purchased. Enjoy a beer or wine form Restaurant 101 PLUS great food from 101 & O'Callahan's. Cool down with ice cream from Scoops. Bring your chair for seating & your dance shoes.
X-ALT-DESC;FMTTYPE=text/html:Downtown Mocksville will be ROCKIN&#39\; with tunes of Moxie...a high energy band featuring RNB and Funk of the 60&#39\;s\, 70&#39\;s\, and 80&#39\;s. This is one of Mocksville&#39\;s favorite bands every time they are in town! NO COOLER\, PLS. Alcohol can be purchased. Enjoy a beer or wine form Restaurant 101 PLUS great food from 101 &amp\; O&#39\;Callahan&#39\;s. Cool down with ice cream from Scoops. Bring your chair for seating &amp\; your dance shoes.
LOCATION:Parking Quad near Restaurant 101
UID:e.2378.22506
SEQUENCE:3
DTSTAMP:20260425T214854Z
URL:https://business.daviechamber.com/events/details/concert-on-the-square-featuring-moxie-22506
END:VEVENT

END:VCALENDAR
