BEGIN:VCALENDAR
VERSION:2.0
PRODID:-//ChamberMaster//Event Calendar 2.0//EN
METHOD:PUBLISH
X-PUBLISHED-TTL:P3D
REFRESH-INTERVAL:P3D
CALSCALE:GREGORIAN
BEGIN:VEVENT
DTSTART:20230812T230000Z
DTEND:20230813T020000Z
X-MICROSOFT-CDO-ALLDAYEVENT:FALSE
SUMMARY:Concert on the Square - Featuring Usual Suspects
DESCRIPTION:Join us Downtown Mocksville with Usual Suspects. Rock\, Blues\, and RNB of the 70's and 80's. Come dine or wine here in Mocksville at Restaurant 101 or O"Callahan's. To cool off\, walk down to Scoops Ice Cream for a dip cone OR a milkshake. NO COLLERS\, PLS. Alcohol is available to purchase .Bring a chair for seating AND your dancing shoes.
X-ALT-DESC;FMTTYPE=text/html:<span style="font-size:18px\;"><span style="font-family:tahoma\;"><span style="color:#333333\;">Join us Downtown Mocksville with Usual Suspects. Rock\, Blues\, and RNB of the 70&#39\;s and 80&#39\;s. Come dine or wine here in Mocksville at Restaurant 101 or O&quot\;Callahan&#39\;s. To cool off\, walk down to Scoops Ice Cream for a dip cone OR a milkshake. NO COLLERS\, PLS. Alcohol is available to purchase .Bring a chair for seating AND your dancing shoes.</span></span></span>
LOCATION:Parking Quad close to Restaurant 101 on N. Main St.
UID:e.2378.22507
SEQUENCE:3
DTSTAMP:20260425T201522Z
URL:https://business.daviechamber.com/events/details/concert-on-the-square-featuring-usual-suspects-22507
END:VEVENT

END:VCALENDAR
