BEGIN:VCALENDAR
VERSION:2.0
PRODID:-//ChamberMaster//Event Calendar 2.0//EN
METHOD:PUBLISH
X-PUBLISHED-TTL:P3D
REFRESH-INTERVAL:P3D
CALSCALE:GREGORIAN
BEGIN:VEVENT
DTSTART:20151023T193000Z
DTEND:20151023T210000Z
X-MICROSOFT-CDO-ALLDAYEVENT:FALSE
SUMMARY:Conflict Resolution Seminar
DESCRIPTION:The Conflict Resolution class will place an emphasis on achieving compromise and collaboration in a conflict situation. The training will go over why people behave the way they do\, communication skills\, problem-solving\, and steps to deescalate a crisis.
X-ALT-DESC;FMTTYPE=text/html:The Conflict Resolution class will place an emphasis on achieving compromise and collaboration in a conflict situation. The training will go over why people behave the way they do\, communication skills\, problem-solving\, and steps to deescalate a crisis.
LOCATION:Davie County Wellness Center 142 Gaither Street\, Mocksville
UID:e.2378.4240
SEQUENCE:3
DTSTAMP:20260422T072332Z
URL:https://business.daviechamber.com/events/details/conflict-resolution-seminar-10-23-2015-4240
END:VEVENT

END:VCALENDAR
