BEGIN:VCALENDAR
VERSION:2.0
PRODID:-//ChamberMaster//Event Calendar 2.0//EN
METHOD:PUBLISH
X-PUBLISHED-TTL:P3D
REFRESH-INTERVAL:P3D
CALSCALE:GREGORIAN
BEGIN:VEVENT
DTSTART:20250606T210000Z
DTEND:20250606T230000Z
X-MICROSOFT-CDO-ALLDAYEVENT:FALSE
SUMMARY:Cooleemee Summer Learning Challenge Kickoff | Davie County Public Library
DESCRIPTION:Join us and other community groups at the Zachary House from 5-7pm on June 6th to sign up for the Summer Learning Challenge!\n\nOur FREE event is for all ages\, and the theme this year is Dragons\, Dreams & Daring Deeds. Join us as we find dragons on the page\, around the world\, in dreams\, in their lair\, and at the round table. This summer we will also learn about dragon lore\, bites\, and dragons in the night!\n\nRegister for the Summer Learning Challenge in person or online @ http://bit.ly/DCPLSLC25
X-ALT-DESC;FMTTYPE=text/html:<div class="xdj266r x11i5rnm xat24cr x1mh8g0r x1vvkbs" style="margin: 0px\; overflow-wrap: break-word\; font-family: &quot\;Segoe UI Historic&quot\;\, &quot\;Segoe UI&quot\;\, Helvetica\, Arial\, sans-serif\; color: rgb(8\, 8\, 9)\; font-size: 15px\;">Join us and other community groups at the Zachary House from 5-7pm on June 6th to sign up for the Summer Learning Challenge!</div>\n\n<div class="x11i5rnm xat24cr x1mh8g0r x1vvkbs xtlvy1s" style="margin: 0.5em 0px 0px\; overflow-wrap: break-word\; font-family: &quot\;Segoe UI Historic&quot\;\, &quot\;Segoe UI&quot\;\, Helvetica\, Arial\, sans-serif\; color: rgb(8\, 8\, 9)\; font-size: 15px\;">Our FREE event is for all ages\, and the theme this year is Dragons\, Dreams &amp\; Daring Deeds. Join us as we find dragons on the page\, around the world\, in dreams\, in their lair\, and at the round table. This summer we will also learn about dragon lore\, bites\, and dragons in the night!</div>\n\n<div class="x11i5rnm xat24cr x1mh8g0r x1vvkbs xtlvy1s" style="margin: 0.5em 0px 0px\; overflow-wrap: break-word\; font-family: &quot\;Segoe UI Historic&quot\;\, &quot\;Segoe UI&quot\;\, Helvetica\, Arial\, sans-serif\; color: rgb(8\, 8\, 9)\; font-size: 15px\;">Register for the Summer Learning Challenge in person or online @&nbsp\;<a attributionsrc="/privacy_sandbox/comet/register/source/?xt=AZV05UJVWc-SeYlxfCgw45RntguacGST7i8VFWN5lhpYYc_SILfveNuBhITlJl5BmpgH-5HNz6q8q_YncUasAjeHnX-qXqRapdRavJMuT7sy0Z1_3JsZ62kh0x5_4RN58m32-HlO6SZEDVGNmug0lHP8WrGg58E7NvSZ-02l1wLAGlPvRcKGdWuQ1jXwBsiq6mgtwr2nkeezmg23FXnNAEQ6girh3HjaPgjNQnfYiKQu2iTUxpai7AnsVDnHzvBLz4AxB8w88hiU1OGEii9v2p1R4iB89BwUbQ8uAuQcqc8C4IRqdcEZAehTEBAl4dDWeuiUtV6QqUgR-78aMpjAYo79A3ohdO7G34QZSubdHGp18ZaH7NOXydmTuqI1VzFj-KPXzgFp003EuCb9bPByBMyvt9whRjRjug_j9x8F-buHtBmkW5bDlfBKbYT0_dYqlGw-_8LHl2mhGVTqpavzIbMlixo_prKz-8iuaYEG3aiQKblUQSLuLokWkqGmRXtqCq-wBP4qe33pbRKwuFZs_RWBSQGC2yBluGaxbOptt-nWK4SRD6KQdrt3-z6mt-FBLx-SKPprBmeGKyMZ8UVNV0YqKQAPaylSgpkHbPALnpcC3kiLYOPwUkpQEJNnSMvFW1tYDwpqR1JjbB_aktDxBfh--xS6gX5m5AW0rA8rGYAcA0QTKFqUbS6nrnkZTY7o7yLJpkjgI2NDTJtnrOD5qf0aYaJZtZujE14dKKt9vKe_WN9C1DOi_whAafeI1lYof1ptcIWRFGN-kH4MebzTm_fjLpgqQNCPIDOYBAufDqTXbhs3vPybUsc5c1dKUWbUXIomDJt7qT6GKMdylNaX2btFRcgEjp2Ib3BFLYcbaCXRaw" class="x1i10hfl xjbqb8w x1ejq31n xd10rxx x1sy0etr x17r0tee x972fbf xcfux6l x1qhh985 xm0m39n x9f619 x1ypdohk xt0psk2 xe8uvvx xdj266r x11i5rnm xat24cr x1mh8g0r xexx8yu x4uap5 x18d9i69 xkhd6sd x16tdsg8 x1hl2dhg xggy1nq x1a2a7pz xkrqix3 x1sur9pj x1fey0fg x1s688f" href="https://bit.ly/DCPLSLC25?fbclid=IwZXh0bgNhZW0CMTAAYnJpZBExUDVkYVJzMUpwRmdYQnZySAEeRVkcpU50IYGjkV6ANoWuAKzi6gSZ4FtRUAjk3cUFMZq_qmTbk7YYYEXjICU_aem_I5UJmSb5CB40Bt7z1yuSEQ" rel="nofollow noreferrer" role="link" style="color: rgb(0\, 100\, 209)\; cursor: pointer\; text-decoration-line: none\; list-style: none\; margin: 0px\; text-align: inherit\; border-style: none\; padding: 0px\; box-sizing: border-box\; border-width: 0px\; outline: none\; -webkit-tap-highlight-color: transparent\; font-weight: 600\; touch-action: manipulation\; background-color: transparent\; display: inline\; font-family: inherit\;" tabindex="0" target="_blank">http://bit.ly/DCPLSLC25</a></div>\n
LOCATION:Cooleemee
UID:e.2378.27328
SEQUENCE:3
DTSTAMP:20260425T220938Z
URL:https://business.daviechamber.com/events/details/cooleemee-summer-learning-challenge-kickoff-davie-county-public-library-27328
END:VEVENT

END:VCALENDAR
