BEGIN:VCALENDAR
VERSION:2.0
PRODID:-//ChamberMaster//Event Calendar 2.0//EN
METHOD:PUBLISH
X-PUBLISHED-TTL:P3D
REFRESH-INTERVAL:P3D
CALSCALE:GREGORIAN
BEGIN:VEVENT
DTSTART:20180414T103000Z
DTEND:20180414T140000Z
X-MICROSOFT-CDO-ALLDAYEVENT:FALSE
SUMMARY:Country Ham & Tenderloin Breakfast
DESCRIPTION:Proceeds benefit Family Promise of Davie County Country ham\, tenderloin\, eggs\, grits\, sausage gravy\, biscuits\, beverage Sponsored by the United Methodist Men
X-ALT-DESC;FMTTYPE=text/html:Proceeds benefit Family Promise of Davie County Country ham\, tenderloin\, eggs\, grits\, sausage gravy\, biscuits\, beverage Sponsored by the United Methodist Men
LOCATION:Mocks United Methodist Church 523 Beauchamp Rd (Corner of Mocks Church & Beauchamp Rd) Advance\, NC
UID:e.2378.13932
SEQUENCE:3
DTSTAMP:20260421T154145Z
URL:https://business.daviechamber.com/events/details/country-ham-tenderloin-breakfast-13932
END:VEVENT

END:VCALENDAR
