BEGIN:VCALENDAR
VERSION:2.0
PRODID:-//ChamberMaster//Event Calendar 2.0//EN
METHOD:PUBLISH
X-PUBLISHED-TTL:P3D
REFRESH-INTERVAL:P3D
CALSCALE:GREGORIAN
BEGIN:VEVENT
DTSTART:20150917T230000Z
DTEND:20150918T010000Z
X-MICROSOFT-CDO-ALLDAYEVENT:FALSE
SUMMARY:Couples Art Class
DESCRIPTION:Couples art event\n\nAll materials to compete the project (including canvas\,paint\,brushes\,patter\,step by step written instructions\,individual help and technique practice sheets and the ever important glass of Misty Creek wine)are provided.Cost is $30/person.
X-ALT-DESC;FMTTYPE=text/html:Couples art event<br />\nAll materials to compete&nbsp\;the&nbsp\;project (including canvas\,paint\,brushes\,patter\,step by step&nbsp\;written&nbsp\;instructions\,individual help and technique practice sheets and the ever important&nbsp\;glass&nbsp\;of Misty Creek wine)are provided.Cost is $30/person.
LOCATION:Misty Creek Vineyards 710 Wyo Road Mocksville \,NC
UID:e.2378.3992
SEQUENCE:3
DTSTAMP:20260422T084832Z
URL:https://business.daviechamber.com/events/details/couples-art-class-09-17-2015-3992
END:VEVENT

END:VCALENDAR
