BEGIN:VCALENDAR
VERSION:2.0
PRODID:-//ChamberMaster//Event Calendar 2.0//EN
METHOD:PUBLISH
X-PUBLISHED-TTL:P3D
REFRESH-INTERVAL:P3D
CALSCALE:GREGORIAN
BEGIN:VEVENT
DTSTART:20240720T210000Z
DTEND:20240721T010000Z
X-MICROSOFT-CDO-ALLDAYEVENT:FALSE
SUMMARY:Cousin Maine Lobster Food Truck
DESCRIPTION:Nationally known and locally owned\, we're bringing Maine lobster to your neighborhood!
X-ALT-DESC;FMTTYPE=text/html:<span style="font-size:18px\;"><span style="font-family:tahoma\;"><span style="color:#000000\;">Nationally known and locally owned\, we&rsquo\;re bringing Maine lobster to your neighborhood!</span></span></span>
LOCATION:The Station
UID:e.2378.24498
SEQUENCE:3
DTSTAMP:20260421T055842Z
URL:https://business.daviechamber.com/events/details/cousin-maine-lobster-food-truck-24498
END:VEVENT

END:VCALENDAR
