BEGIN:VCALENDAR
VERSION:2.0
PRODID:-//ChamberMaster//Event Calendar 2.0//EN
METHOD:PUBLISH
X-PUBLISHED-TTL:P3D
REFRESH-INTERVAL:P3D
CALSCALE:GREGORIAN
BEGIN:VEVENT
DTSTART:20230504T210000Z
DTEND:20230505T000000Z
X-MICROSOFT-CDO-ALLDAYEVENT:FALSE
SUMMARY:Cousins Maine Lobster at The Station
DESCRIPTION:Hey Mocksville ... we are eating like Mainers this Thursday. Head to The Station and grab a taste of Cousins Maine Lobster food truck with delicious Maine Lobster.\n\n.\n\nFAQ about mobile ordering\n\nOrder on the app and skip the line! Mobile ordering starts when the truck opens for service. Head straight to our pickup window at your designated pickup time! Mobile app ordering is limited. But you can always order with us directly at the truck!Use our app and join our loyalty program to earn points for free food! Orders placed through our app receive points automatically\, or you can scan your app loyalty card at the window during checkout!
X-ALT-DESC;FMTTYPE=text/html:<span style="font-size:16px\;"><span style="font-family:tahoma\;"><span style="color: rgb(5\, 5\, 5)\;">Hey Mocksville ... we are eating like Mainers this Thursday. Head to The Station and grab a taste of Cousins Maine Lobster food truck with delicious Maine Lobster.</span><br style="color: rgb(5\, 5\, 5)\; font-family: &quot\;Segoe UI Historic&quot\;\, &quot\;Segoe UI&quot\;\, Helvetica\, Arial\, sans-serif\; font-size: 15px\;" />\n<span style="color: rgb(5\, 5\, 5)\;">.</span><br style="color: rgb(5\, 5\, 5)\; font-family: &quot\;Segoe UI Historic&quot\;\, &quot\;Segoe UI&quot\;\, Helvetica\, Arial\, sans-serif\; font-size: 15px\;" />\n<span style="color: rgb(5\, 5\, 5)\;">FAQ about mobile ordering</span></span></span><br style="color: rgb(5\, 5\, 5)\; font-family: &quot\;Segoe UI Historic&quot\;\, &quot\;Segoe UI&quot\;\, Helvetica\, Arial\, sans-serif\; font-size: 15px\;" />\n<span style="color: rgb(5\, 5\, 5)\; font-family: tahoma\; font-size: 16px\;">Order on the app and skip the line! Mobile ordering starts when the truck opens for service. Head straight to our pickup window at your designated pickup time!&nbsp\;</span><span style="color: rgb(5\, 5\, 5)\; font-family: tahoma\; font-size: 16px\;">Mobile app ordering is limited. But you can always order with us directly at the truck!</span><span style="color: rgb(5\, 5\, 5)\; font-family: tahoma\; font-size: 16px\;">Use our app and join our loyalty program to earn points for free food! Orders placed through our app receive points automatically\, or you can scan your app loyalty card at the window during checkout!</span>
LOCATION:The Station
UID:e.2378.22903
SEQUENCE:3
DTSTAMP:20260424T131243Z
URL:https://business.daviechamber.com/events/details/cousins-maine-lobster-at-the-station-22903
END:VEVENT

END:VCALENDAR
