BEGIN:VCALENDAR
VERSION:2.0
PRODID:-//ChamberMaster//Event Calendar 2.0//EN
METHOD:PUBLISH
X-PUBLISHED-TTL:P3D
REFRESH-INTERVAL:P3D
CALSCALE:GREGORIAN
BEGIN:VEVENT
DTSTART:20260308T180000Z
DTEND:20260308T200000Z
X-MICROSOFT-CDO-ALLDAYEVENT:FALSE
SUMMARY:Crafting Calm | Cognition
DESCRIPTION:Join us on March 8th from 2 PM to 4 PM for an intentional afternoon designed for parents.\n\nCrafting Calm is a hands-on wellness workshop where you will:Learn\, create\, and connect because parenting is better together Participate in a craft led by our Education Coordinator Explore stress relief and emotional well-being tools with a licensed therapist\, Gabriella Drouillard-Moser.\n\nCost: $25 per person\n\nNo crafting experience is needed.\n\nCome as you are and enjoy meaningful conversation\, creative expression\, and community.\n\nSeats are limited!\n\nCheck our Calendar for upcoming dates! More info about Gabriella here: https://chaoscoordinationtherapy.com/
X-ALT-DESC;FMTTYPE=text/html:Join us on March 8th from 2 PM to 4 PM for an intentional afternoon designed for parents.<br />\nCrafting Calm is a hands-on wellness workshop where you will:Learn\, create\, and connect because parenting is better together Participate in a craft led by our Education Coordinator Explore stress relief and emotional well-being tools with a licensed therapist\, Gabriella Drouillard-Moser.<br />\nCost: $25 per person<br />\nNo crafting experience is needed.<br />\nCome as you are and enjoy meaningful conversation\, creative expression\, and community.<br />\nSeats are limited!<br />\nCheck our Calendar for upcoming dates! More info about Gabriella here: https://chaoscoordinationtherapy.com/
LOCATION:
UID:e.2378.30271
SEQUENCE:3
DTSTAMP:20260424T105321Z
URL:https://business.daviechamber.com/events/details/crafting-calm-cognition-30271
END:VEVENT

END:VCALENDAR
