BEGIN:VCALENDAR
VERSION:2.0
PRODID:-//ChamberMaster//Event Calendar 2.0//EN
METHOD:PUBLISH
X-PUBLISHED-TTL:P3D
REFRESH-INTERVAL:P3D
CALSCALE:GREGORIAN
BEGIN:VEVENT
DTSTART:20260228T230000Z
DTEND:20260301T020000Z
X-MICROSOFT-CDO-ALLDAYEVENT:FALSE
SUMMARY:Crane & Co Acoustic Live | Tanglewood Pizza Company
DESCRIPTION:Get ready for a high-energy evening of classic tunes!\n\nKnown for delivering some of the best 70s\, 80s\, 90s\, and early 2000s rock and pop hits in the region\, Crane & Co will have you singing along and dancing all night long.\n\nBring your friends\, grab a bite\, and enjoy live music in a fun\, laid-back atmosphere. It's the perfect way to wrap up a summer weekend.
X-ALT-DESC;FMTTYPE=text/html:<p style="box-sizing: border-box\; margin: 0px 0px 20px\; padding: 0px 0px 1em\; border: 0px\; outline: 0px\; font-size: 14px\; text-size-adjust: 100%\; vertical-align: baseline\; background-image: initial\; background-position: initial\; background-size: initial\; background-repeat: initial\; background-attachment: initial\; background-origin: initial\; background-clip: initial\; color: rgb(97\, 97\, 97)\; line-height: 1.8\; font-family: &quot\;Alegreya Sans&quot\;\, Helvetica\, Arial\, Lucida\, sans-serif\;"><span style="font-size:14px\;">Get ready for a high-energy evening of classic tunes!<br />\nKnown for delivering some of the best 70s\, 80s\, 90s\, and early 2000s rock and pop hits in the region\, Crane &amp\; Co will have you singing along and dancing all night long.<br />\nBring your friends\, grab a bite\, and enjoy live music in a fun\, laid-back atmosphere. It&rsquo\;s the perfect way to wrap up a summer weekend.</span></p>\n
LOCATION:
UID:e.2378.30291
SEQUENCE:3
DTSTAMP:20260424T122706Z
URL:https://business.daviechamber.com/events/details/crane-co-acoustic-live-tanglewood-pizza-company-30291
END:VEVENT

END:VCALENDAR
