BEGIN:VCALENDAR
VERSION:2.0
PRODID:-//ChamberMaster//Event Calendar 2.0//EN
METHOD:PUBLISH
X-PUBLISHED-TTL:P3D
REFRESH-INTERVAL:P3D
CALSCALE:GREGORIAN
BEGIN:VEVENT
DTSTART:20250411T220000Z
DTEND:20250412T010000Z
X-MICROSOFT-CDO-ALLDAYEVENT:FALSE
SUMMARY:Crane & Co. | Tanglewood Pizza Company
DESCRIPTION:Live Music at TPC with Crane & Co!
X-ALT-DESC;FMTTYPE=text/html:Live Music at TPC with Crane &amp\; Co!
LOCATION:Tanglewood Pizza Company
UID:e.2378.25542
SEQUENCE:3
DTSTAMP:20260426T021517Z
URL:https://business.daviechamber.com/events/details/crane-co-tanglewood-pizza-company-25542
END:VEVENT

END:VCALENDAR
