BEGIN:VCALENDAR
VERSION:2.0
PRODID:-//ChamberMaster//Event Calendar 2.0//EN
METHOD:PUBLISH
X-PUBLISHED-TTL:P3D
REFRESH-INTERVAL:P3D
CALSCALE:GREGORIAN
BEGIN:VEVENT
DTSTART:20230819T220000Z
DTEND:20230820T010000Z
X-MICROSOFT-CDO-ALLDAYEVENT:FALSE
SUMMARY:Crimson Mist (3 piece) at The Station
DESCRIPTION:Crimson Mist (3 piece) will be at The Station in Mocksville\, NC playing your favorite classic rock tunes.
X-ALT-DESC;FMTTYPE=text/html:<span style="font-size:18px\;"><span style="font-family:tahoma\;"><span style="color:#333333\;">Crimson Mist (3 piece) will be at The Station in Mocksville\, NC playing your favorite classic rock tunes.</span></span></span>
LOCATION:The Station
UID:e.2378.23175
SEQUENCE:3
DTSTAMP:20260425T201625Z
URL:https://business.daviechamber.com/events/details/crimson-mist-3-piece-at-the-station-23175
END:VEVENT

END:VCALENDAR
