BEGIN:VCALENDAR
VERSION:2.0
PRODID:-//ChamberMaster//Event Calendar 2.0//EN
METHOD:PUBLISH
X-PUBLISHED-TTL:P3D
REFRESH-INTERVAL:P3D
CALSCALE:GREGORIAN
BEGIN:VEVENT
DTSTART:20230703T210000Z
DTEND:20230704T000000Z
X-MICROSOFT-CDO-ALLDAYEVENT:FALSE
SUMMARY:Cruise In - DC Cruisers
DESCRIPTION:DC Cruisers cruise in will be held in downtown Mocksville from 5-8 on Monday\, July 3.\n\nThe classic and restored vehicles will be joined by antique tractors\, which will be on display in parking lots just off North Main Street.
X-ALT-DESC;FMTTYPE=text/html:DC Cruisers cruise in will be held in downtown Mocksville from 5-8 on Monday\, July 3.<br />\nThe classic and restored vehicles will be joined by antique tractors\, which will be on display in parking lots just off North Main Street.<br />\n&nbsp\;
LOCATION:
UID:e.2378.23054
SEQUENCE:3
DTSTAMP:20260425T214818Z
URL:https://business.daviechamber.com/events/details/cruise-in-dc-cruisers-23054
END:VEVENT

END:VCALENDAR
