BEGIN:VCALENDAR
VERSION:2.0
PRODID:-//ChamberMaster//Event Calendar 2.0//EN
METHOD:PUBLISH
X-PUBLISHED-TTL:P3D
REFRESH-INTERVAL:P3D
CALSCALE:GREGORIAN
BEGIN:VEVENT
DTSTART:20250602T203000Z
DTEND:20250602T223000Z
X-MICROSOFT-CDO-ALLDAYEVENT:FALSE
SUMMARY:Cruise Into Lydia Jaynes for a Snack & Shop | Mocksville
DESCRIPTION:*if for some reason the Cruise In is cancelled\, we will be as well.
X-ALT-DESC;FMTTYPE=text/html:<div class="xdj266r x11i5rnm xat24cr x1mh8g0r x1vvkbs" style="margin: 0px\; overflow-wrap: break-word\; font-family: inherit\;"><span class="x193iq5w xeuugli x13faqbe x1vvkbs x1xmvt09 x1lliihq x1s928wv xhkezso x1gmr53x x1cpjm7i x1fgarty x1943h6x xudqn12 x3x7a5m x6prxxf xvq8zen xo1l8bm xzsf02u" dir="auto" style="overflow-wrap: break-word\; max-width: 100%\; word-break: break-word\; display: block\; font-family: &quot\;Segoe UI Historic&quot\;\, &quot\;Segoe UI&quot\;\, Helvetica\, Arial\, sans-serif\; font-size: 0.9375rem\; line-height: 1.3333\; color: rgb(8\, 8\, 9)\; min-width: 0px\; margin-top: 16px\;">*if for some reason the Cruise In is cancelled\, we will be as well.</span></div>\n
LOCATION:Mocksville
UID:e.2378.27531
SEQUENCE:3
DTSTAMP:20260425T221301Z
URL:https://business.daviechamber.com/events/details/cruise-into-lydia-jaynes-for-a-snack-shop-mocksville-27531
END:VEVENT

END:VCALENDAR
