BEGIN:VCALENDAR
VERSION:2.0
PRODID:-//ChamberMaster//Event Calendar 2.0//EN
METHOD:PUBLISH
X-PUBLISHED-TTL:P3D
REFRESH-INTERVAL:P3D
CALSCALE:GREGORIAN
BEGIN:VEVENT
DTSTART:20170520T130000Z
DTEND:20170520T170000Z
X-MICROSOFT-CDO-ALLDAYEVENT:FALSE
SUMMARY:Cub Scout Pack 505 Car Wash
DESCRIPTION:Pack 505 is having a car wash fundraiser to help the boys have a fun summer....You bring us your dirty vehicle\, We will wash it!!
X-ALT-DESC;FMTTYPE=text/html:Pack 505 is having a car wash fundraiser to help the boys have a fun summer....You bring us your dirty vehicle\, We will wash it!!
LOCATION:Advance Auto 1242 Yadkinville Rd.\, Mocksville
UID:e.2378.11698
SEQUENCE:3
DTSTAMP:20260422T083945Z
URL:https://business.daviechamber.com/events/details/cub-scout-pack-505-car-wash-11698
END:VEVENT

END:VCALENDAR
