BEGIN:VCALENDAR
VERSION:2.0
PRODID:-//ChamberMaster//Event Calendar 2.0//EN
METHOD:PUBLISH
X-PUBLISHED-TTL:P3D
REFRESH-INTERVAL:P3D
CALSCALE:GREGORIAN
BEGIN:VEVENT
DTSTART:20230720T143000Z
DTEND:20230720T190000Z
X-MICROSOFT-CDO-ALLDAYEVENT:FALSE
SUMMARY:Customer Appreciation Day at Bank OZK
DESCRIPTION:Help Bank OZK celebrate YOU as a client! You are invited to attend their upcoming Client Appreciation event. Stop by to enjoy complimentary food and beverages provided by Bank OZK and stick around for fun giveaways!\n\n\n\nFLYER
X-ALT-DESC;FMTTYPE=text/html:<span style="font-size:18px\;"><span style="font-family:tahoma\;"><span style="color:#666666\;"><span style="background-color: rgb(255\, 255\, 255)\;">Help Bank OZK celebrate YOU as a client! You are invited to attend their upcoming Client Appreciation event. Stop by to enjoy complimentary food and beverages provided by Bank OZK and stick around for fun giveaways!<br />\n<br />\n<u><strong><a href="https://chambermaster.blob.core.windows.net/userfiles/UserFiles/chambers/2378/File/Mocksville-BoxwoodVillage.pdf">FLYER</a></strong></u></span></span></span></span>
LOCATION:Bank OZK - Mocksville Branch
UID:e.2378.23091
SEQUENCE:3
DTSTAMP:20260425T214817Z
URL:https://business.daviechamber.com/events/details/customer-appreciation-day-at-bank-ozk-23091
END:VEVENT

END:VCALENDAR
