BEGIN:VCALENDAR
VERSION:2.0
PRODID:-//ChamberMaster//Event Calendar 2.0//EN
METHOD:PUBLISH
X-PUBLISHED-TTL:P3D
REFRESH-INTERVAL:P3D
CALSCALE:GREGORIAN
BEGIN:VEVENT
DTSTART:20160817T170000Z
DTEND:20160817T220000Z
X-MICROSOFT-CDO-ALLDAYEVENT:FALSE
SUMMARY:Damsel in Defense show
DESCRIPTION:Come in and check out all of the great items they make for our protection.
X-ALT-DESC;FMTTYPE=text/html:Come in and check out all of the great items they make for our protection.
LOCATION:Scarlett's Unique Boutique 185 N. Main St Mocksville\, NC 27028
UID:e.2378.7509
SEQUENCE:3
DTSTAMP:20260421T164801Z
URL:https://business.daviechamber.com/events/details/damsel-in-defense-show-08-17-2016-7509
END:VEVENT

END:VCALENDAR
