BEGIN:VCALENDAR
VERSION:2.0
PRODID:-//ChamberMaster//Event Calendar 2.0//EN
METHOD:PUBLISH
X-PUBLISHED-TTL:P3D
REFRESH-INTERVAL:P3D
CALSCALE:GREGORIAN
BEGIN:VEVENT
DTSTART:20230706T220000Z
DTEND:20230707T010000Z
X-MICROSOFT-CDO-ALLDAYEVENT:FALSE
SUMMARY:Dance Party
DESCRIPTION:Join us for a night of dancing! We will have a special performance by The Boogie Brigade. Then we will dance the night away!\n\n\n\nTICKETS
X-ALT-DESC;FMTTYPE=text/html:<span style="color:#000000\;"><span style="font-size:16px\;"><span style="font-family:tahoma\;">Join us for a night of dancing! We will have a special performance by The Boogie Brigade. Then we will dance the night away!<br />\n<br />\n<u><strong><a href="https://forms.office.com/pages/responsepage.aspx?id=gY4frK7UB06AtltSYIjBVsZFu_F_sClCsxFO5Oy44LpUQ0M4SUZPR0pZV0RWMzVZNUpHWE4zN1k0NC4u&amp\;fbclid=IwAR1RNUGGpaGz5rC7gp-9pljmTYwn6Evw6GX0a21sQmUBBn5CM2hQdBupLV0">TICKETS</a></strong></u></span></span></span>
LOCATION:Davie County Public Library
UID:e.2378.23031
SEQUENCE:3
DTSTAMP:20260425T214539Z
URL:https://business.daviechamber.com/events/details/dance-party-23031
END:VEVENT

END:VCALENDAR
