BEGIN:VCALENDAR
VERSION:2.0
PRODID:-//ChamberMaster//Event Calendar 2.0//EN
METHOD:PUBLISH
X-PUBLISHED-TTL:P3D
REFRESH-INTERVAL:P3D
CALSCALE:GREGORIAN
BEGIN:VEVENT
DTSTART:20240726T220000Z
DTEND:20240727T010000Z
X-MICROSOFT-CDO-ALLDAYEVENT:FALSE
SUMMARY:Darrell Hoots | Tanglewood Pizza Company
DESCRIPTION:Darrell Hoots at TPC Friday\, July 26th - 6:00PM! Singing all of your favorites!
X-ALT-DESC;FMTTYPE=text/html:<span style="font-size:18px\;"><span style="font-family:tahoma\;"><span style="color: rgb(5\, 5\, 5)\;">Darrell Hoots at TPC Friday\, July 26th - 6:00PM! Singing all of your favorites!</span></span></span>
LOCATION:Tanglewood Pizza Company
UID:e.2378.24520
SEQUENCE:3
DTSTAMP:20260421T055303Z
URL:https://business.daviechamber.com/events/details/darrell-hoots-tanglewood-pizza-company-24520
END:VEVENT

END:VCALENDAR
