BEGIN:VCALENDAR
VERSION:2.0
PRODID:-//ChamberMaster//Event Calendar 2.0//EN
METHOD:PUBLISH
X-PUBLISHED-TTL:P3D
REFRESH-INTERVAL:P3D
CALSCALE:GREGORIAN
BEGIN:VEVENT
DTSTART:20260306T230000Z
DTEND:20260307T020000Z
X-MICROSOFT-CDO-ALLDAYEVENT:FALSE
SUMMARY:Darrell Hoots | Tanglewood Pizza Company
DESCRIPTION:Enjoy an evening of great music\, delicious food\, and relaxed vibes!\n\n\n\nKnown for his rich vocals and acoustic style\, Darrell Hoots brings a mix of heartfelt originals and crowd-pleasing covers that pair perfectly with your favorite pizza and a cold drink.\n\n\n\nGather your friends\, grab a table\, and make it a night to remember at TPC.
X-ALT-DESC;FMTTYPE=text/html:<p style="box-sizing: border-box\; margin: 0px 0px 20px\; padding: 0px 0px 1em\; border: 0px\; outline: 0px\; font-size: 14px\; text-size-adjust: 100%\; vertical-align: baseline\; background-image: initial\; background-position: initial\; background-size: initial\; background-repeat: initial\; background-attachment: initial\; background-origin: initial\; background-clip: initial\; color: rgb(97\, 97\, 97)\; line-height: 1.8\; font-family: &quot\;Alegreya Sans&quot\;\, Helvetica\, Arial\, Lucida\, sans-serif\;">Enjoy an evening of great music\, delicious food\, and relaxed vibes!<br />\n<br />\nKnown for his rich vocals and acoustic style\, Darrell Hoots brings a mix of heartfelt originals and crowd-pleasing covers that pair perfectly with your favorite pizza and a cold drink.<br />\n<br />\nGather your friends\, grab a table\, and make it a night to remember at TPC.</p>\n
LOCATION:
UID:e.2378.30443
SEQUENCE:3
DTSTAMP:20260424T121253Z
URL:https://business.daviechamber.com/events/details/darrell-hoots-tanglewood-pizza-company-30443
END:VEVENT

END:VCALENDAR
