BEGIN:VCALENDAR
VERSION:2.0
PRODID:-//ChamberMaster//Event Calendar 2.0//EN
METHOD:PUBLISH
X-PUBLISHED-TTL:P3D
REFRESH-INTERVAL:P3D
CALSCALE:GREGORIAN
BEGIN:VEVENT
DTSTART:20230831T223000Z
DTEND:20230901T013000Z
X-MICROSOFT-CDO-ALLDAYEVENT:FALSE
SUMMARY:Darren Bryant Rocks the Deck at O'Callahans
DESCRIPTION:Love classic country? We've got you!!! Darren Bryant plays all of your favorites and even a few that you didn't realize were your favorites.\n\nMark your calendars because you don't want to miss this show!
X-ALT-DESC;FMTTYPE=text/html:<span style="color:#333333\;"><span style="font-size:18px\;"><span style="font-family:tahoma\;">Love classic country? We&#39\;ve got you!!! Darren Bryant plays all of your favorites and even a few that you didn&#39\;t realize were your favorites.<br style="color: rgb(5\, 5\, 5)\; font-family: &quot\;Segoe UI Historic&quot\;\, &quot\;Segoe UI&quot\;\, Helvetica\, Arial\, sans-serif\; font-size: 15px\;" />\nMark your calendars because you don&#39\;t want to miss this show!</span></span></span>
LOCATION:O'Callahans
UID:e.2378.23206
SEQUENCE:3
DTSTAMP:20260425T201626Z
URL:https://business.daviechamber.com/events/details/darren-bryant-rocks-the-deck-at-o-callahans-23206
END:VEVENT

END:VCALENDAR
