BEGIN:VCALENDAR
VERSION:2.0
PRODID:-//ChamberMaster//Event Calendar 2.0//EN
METHOD:PUBLISH
X-PUBLISHED-TTL:P3D
REFRESH-INTERVAL:P3D
CALSCALE:GREGORIAN
BEGIN:VEVENT
DTSTART:20250321T113000Z
DTEND:20250321T133000Z
X-MICROSOFT-CDO-ALLDAYEVENT:FALSE
SUMMARY:Davie Chamber 55th Annual Meeting & Awards Breakfast
DESCRIPTION:The Davie County Chamber of Commerce invites you to our Annual Chamber Meeting & Awards Breakfast\, a premier gathering of business leaders and professionals dedicated to the continued growth and success of our local economy.\n\n\n\nINVITE & SPONSORSHIP INFORMATION\n\nThis signature event will provide valuable insights into economic trends and regional development. Loren Hill\, Carolina Core Regional Economic Development Director\, will open the program with an overview of the region's economic landscape. Penny Whiteheart\, Executive Vice President of the Piedmont Triad Partnership\, will deliver the keynote address\, offering an in-depth analysis of the current economic climate and its implications for businesses in our area.\n\nThe event will also recognize excellence within our business community with the presentation of our Annual Chamber Awards\, including:\n\n\n	Business of the Year\n	E.C. Tatum Humanitarian Award\n	Ambassador of the Year\n\n\nJoin us for a morning of strategic networking\, professional engagement\, and meaningful recognition of those making a lasting impact in our region.\n\nDate: Friday\, March 21\, 2025\n\nLocation: WinMock at Kinderton (168 E Kinderton Way\, Bermuda Run\, NC 27006)\n\nTime: 7:30 AM Doors Open | 8:15-9:30 AM Program\n\nSecure your seat today and be part of this essential conversation on the future of our local economy.
X-ALT-DESC;FMTTYPE=text/html:<p><span style="color:#000000\;"><span style="font-size:18px\;"><span style="font-family:tahoma\;">The Davie County Chamber of Commerce&nbsp\;invites you to our&nbsp\;<strong>Annual Chamber Meeting &amp\; Awards Breakfast</strong>\, a premier gathering of business leaders and professionals dedicated to the continued growth and success of our local economy.</span></span></span><br />\n<br />\n<u style="font-family: tahoma\; font-size: 18px\;"><strong><a href="https://chambermaster.blob.core.windows.net/userfiles/UserFiles/chambers/2378/File/StateDavieSponsorshipInviteForm.pdf"><span style="color: rgb(0\, 128\, 0)\;">INVITE &amp\; SPONSORSHIP INFORMATION</span></a></strong></u></p>\n\n<p><span style="color:#000000\;"><span style="font-size:18px\;"><span style="font-family:tahoma\;">This signature event will provide valuable insights into economic trends and regional development.&nbsp\;<strong>Loren Hill\, Carolina Core Regional Economic Development Director\,</strong>&nbsp\;will open the program with an overview of the region&rsquo\;s economic landscape.&nbsp\;<strong>Penny Whiteheart\, Executive Vice President of the Piedmont Triad Partnership\,</strong>&nbsp\;will deliver the keynote address\, offering an in-depth analysis of the current economic climate and its implications for businesses in our area.</span></span></span></p>\n\n<p><span style="color:#000000\;"><span style="font-size:18px\;"><span style="font-family:tahoma\;">The event will also recognize excellence within our business community with the presentation of our&nbsp\;<strong>Annual Chamber Awards</strong>\, including:</span></span></span></p>\n\n<ul>\n	<li><span style="color:#000000\;"><span style="font-size:18px\;"><span style="font-family:tahoma\;"><strong>Business of the Year</strong></span></span></span></li>\n	<li><span style="color:#000000\;"><span style="font-size:18px\;"><span style="font-family:tahoma\;"><strong>E.C. Tatum Humanitarian Award</strong></span></span></span></li>\n	<li><span style="color:#000000\;"><span style="font-size:18px\;"><span style="font-family:tahoma\;"><strong>Ambassador of the Year</strong></span></span></span></li>\n</ul>\n\n<p><span style="color:#000000\;"><span style="font-size:18px\;"><span style="font-family:tahoma\;">Join us for a morning of strategic networking\, professional engagement\, and meaningful recognition of those making a lasting impact in our region.</span></span></span></p>\n\n<p><span style="color:#000000\;"><span style="font-size:18px\;"><span style="font-family:tahoma\;"><strong>Date:</strong>&nbsp\;Friday\, March&nbsp\;21\, 2025<br />\n<strong>Location:</strong>&nbsp\;WinMock at Kinderton (168 E Kinderton Way\, Bermuda Run\, NC 27006)<br />\n<strong>Time:</strong>&nbsp\;7:30 AM Doors Open | 8:15-9:30 AM Program</span></span></span></p>\n\n<p><span style="color:#000000\;"><span style="font-size:18px\;"><span style="font-family:tahoma\;">Secure your seat today and be part of this essential conversation on the future of our local economy.</span></span></span></p>\n
LOCATION:WinMock at Kinderton
UID:e.2378.25261
SEQUENCE:3
DTSTAMP:20260425T232910Z
URL:https://business.daviechamber.com/events/details/davie-chamber-55th-annual-meeting-awards-breakfast-25261
END:VEVENT

END:VCALENDAR
