BEGIN:VCALENDAR
VERSION:2.0
PRODID:-//ChamberMaster//Event Calendar 2.0//EN
METHOD:PUBLISH
X-PUBLISHED-TTL:P3D
REFRESH-INTERVAL:P3D
CALSCALE:GREGORIAN
BEGIN:VEVENT
DTSTART:20230826T233000Z
DTEND:20230827T023000Z
X-MICROSOFT-CDO-ALLDAYEVENT:FALSE
SUMMARY:Davie Construction Co. 30th Anniversary Celebration
DESCRIPTION:Come celebrate Davie Construction's 30th Anniversary at Davie Community Park. Come hear live music from the band Heads Up Penny and enjoy refreshments from several food trucks.\n\n\n\nCommunity Giveback: Bring one school supply item to be donated to Davie Co. Schools
X-ALT-DESC;FMTTYPE=text/html:<span style="font-size:18px\;"><span style="font-family:tahoma\;"><span style="color:#333333\;">Come celebrate Davie Construction&#39\;s 30th Anniversary at Davie Community Park. Come hear live music from the band Heads Up Penny and enjoy refreshments from several food trucks.<br />\n<br />\nCommunity Giveback: Bring one school supply item to be donated to Davie Co. Schools</span></span></span><br />\n<br />\n&nbsp\;
LOCATION:Davie Community Park
UID:e.2378.23212
SEQUENCE:3
DTSTAMP:20260425T201522Z
URL:https://business.daviechamber.com/events/details/davie-construction-co-30th-anniversary-celebration-23212
END:VEVENT

END:VCALENDAR
