BEGIN:VCALENDAR
VERSION:2.0
PRODID:-//ChamberMaster//Event Calendar 2.0//EN
METHOD:PUBLISH
X-PUBLISHED-TTL:P3D
REFRESH-INTERVAL:P3D
CALSCALE:GREGORIAN
BEGIN:VEVENT
DTSTART:20160220T140000Z
DTEND:20160220T160000Z
X-MICROSOFT-CDO-ALLDAYEVENT:FALSE
SUMMARY:Davie County Caregiver Workshop
DESCRIPTION:If you or somebody you know is currently Caregiving for someone (family member\, friend\, or loved one) this workshop is for you.\n\nExperts from several different fields will be on hand to discuss topics related to being a caregiver and answer all of your questions.\n\nYou owe it to yourself and the one you're caring for to attend this workshop.
X-ALT-DESC;FMTTYPE=text/html:If you or somebody you know is currently Caregiving for someone (family member\, friend\, or loved one) this workshop is for you.<br />\nExperts from several different fields will be on hand to discuss topics related to being a caregiver and answer all of your questions.<br />\nYou owe it to yourself and the one you&#39\;re caring for to attend this workshop.
LOCATION:Davie County Public Library 371 Main Street\, Mocksville
UID:e.2378.4541
SEQUENCE:3
DTSTAMP:20260422T013046Z
URL:https://business.daviechamber.com/events/details/davie-county-caregiver-workshop-02-20-2016-4541
END:VEVENT

END:VCALENDAR
