BEGIN:VCALENDAR
VERSION:2.0
PRODID:-//ChamberMaster//Event Calendar 2.0//EN
METHOD:PUBLISH
X-PUBLISHED-TTL:P3D
REFRESH-INTERVAL:P3D
CALSCALE:GREGORIAN
BEGIN:VEVENT
DTSTART:20160911T180000Z
DTEND:20160911T193000Z
X-MICROSOFT-CDO-ALLDAYEVENT:FALSE
SUMMARY:Davie County Community Band
DESCRIPTION:Come out and join the Davie County Community Band. We have performers from 13 years of age to 60+! E-mail for more details! carterjw@davie.k12.nc.us nelsons@davie.k12.nc.us
X-ALT-DESC;FMTTYPE=text/html:Come out and join the Davie County Community Band. We have performers from 13 years of age to 60+! E-mail for more details! carterjw@davie.k12.nc.us nelsons@davie.k12.nc.us
LOCATION:North Davie Middle School band room
UID:e.2378.8730
SEQUENCE:3
DTSTAMP:20260421T155045Z
URL:https://business.daviechamber.com/events/details/davie-county-community-band-8730
END:VEVENT

END:VCALENDAR
