BEGIN:VCALENDAR
VERSION:2.0
PRODID:-//ChamberMaster//Event Calendar 2.0//EN
METHOD:PUBLISH
X-PUBLISHED-TTL:P3D
REFRESH-INTERVAL:P3D
CALSCALE:GREGORIAN
BEGIN:VEVENT
DTSTART:20230316T230000Z
DTEND:20230317T010000Z
X-MICROSOFT-CDO-ALLDAYEVENT:FALSE
SUMMARY:Davie County High Choirs March Concert
DESCRIPTION:DCHS Choirs March Concert\n\nThursday\, March 16\, 2023\n\n7:00 PM\n\nDCHS Auditorium\n\n$7 - in advance\n\n$10 - at the door
X-ALT-DESC;FMTTYPE=text/html:<span style="font-size:16px\;"><span style="font-family:tahoma\;">DCHS Choirs March Concert<br style="color: rgb(5\, 5\, 5)\; font-family: &quot\;Segoe UI Historic&quot\;\, &quot\;Segoe UI&quot\;\, Helvetica\, Arial\, sans-serif\; font-size: 15px\;" />\nThursday\, March 16\, 2023<br style="color: rgb(5\, 5\, 5)\; font-family: &quot\;Segoe UI Historic&quot\;\, &quot\;Segoe UI&quot\;\, Helvetica\, Arial\, sans-serif\; font-size: 15px\;" />\n7:00 PM<br style="color: rgb(5\, 5\, 5)\; font-family: &quot\;Segoe UI Historic&quot\;\, &quot\;Segoe UI&quot\;\, Helvetica\, Arial\, sans-serif\; font-size: 15px\;" />\nDCHS Auditorium<br style="color: rgb(5\, 5\, 5)\; font-family: &quot\;Segoe UI Historic&quot\;\, &quot\;Segoe UI&quot\;\, Helvetica\, Arial\, sans-serif\; font-size: 15px\;" />\n$7 - in advance<br style="color: rgb(5\, 5\, 5)\; font-family: &quot\;Segoe UI Historic&quot\;\, &quot\;Segoe UI&quot\;\, Helvetica\, Arial\, sans-serif\; font-size: 15px\;" />\n$10 - at the door</span></span>
LOCATION:Davie County High School
UID:e.2378.22806
SEQUENCE:3
DTSTAMP:20260424T103109Z
URL:https://business.daviechamber.com/events/details/davie-county-high-choirs-march-concert-22806
END:VEVENT

END:VCALENDAR
