BEGIN:VCALENDAR
VERSION:2.0
PRODID:-//ChamberMaster//Event Calendar 2.0//EN
METHOD:PUBLISH
X-PUBLISHED-TTL:P3D
REFRESH-INTERVAL:P3D
CALSCALE:GREGORIAN
BEGIN:VEVENT
DTSTART:20160328T180000Z
DTEND:20160328T220000Z
X-MICROSOFT-CDO-ALLDAYEVENT:FALSE
SUMMARY:Davie County Job Fair
DESCRIPTION:Here is a short list of companies currently participating:\n\n\n	Golding Farms Foods\n	Ashley Furniture Industries\n	Unifi Manufacturing Inc.\n	Austin Electrical Enclosures\n	Lydall\n	Lowes Home Improvement\n	Autumn Care\n	The Resource\n	Carillon Assisted Living\n	REEB Millwork Corporation\n	Workforce Unlimited\n	Davidson County Community College\n	Mega Force\n	NC Army National Guard
X-ALT-DESC;FMTTYPE=text/html:<span style="font-family: arial\,sans-serif\;">Here is a short list of companies currently participating:</span>\n\n<ul>\n	<li><span style="font-family: arial\,sans-serif\;">Golding Farms Foods</span></li>\n	<li><span style="font-family: arial\,sans-serif\;">Ashley Furniture Industries</span></li>\n	<li><span style="font-family: arial\,sans-serif\;">Unifi Manufacturing Inc.</span></li>\n	<li><span style="font-family: arial\,sans-serif\;">Austin Electrical Enclosures</span></li>\n	<li><span style="font-family: arial\,sans-serif\;">Lydall</span></li>\n	<li><span style="font-family: arial\,sans-serif\;">Lowes Home Improvement</span></li>\n	<li><span style="font-family: arial\,sans-serif\;">Autumn Care</span></li>\n	<li><span style="font-family: arial\,sans-serif\;">The Resource</span></li>\n	<li><span style="font-family: arial\,sans-serif\;">Carillon Assisted Living</span></li>\n	<li><span style="font-family: arial\,sans-serif\;">REEB Millwork Corporation</span></li>\n	<li><span style="font-family: arial\,sans-serif\;">Workforce Unlimited</span></li>\n	<li><span style="font-family: arial\,sans-serif\;">Davidson County Community College</span></li>\n	<li><span style="font-family: arial\,sans-serif\;">Mega Force</span></li>\n	<li><span style="font-family: arial\,sans-serif\;">NC Army National Guard</span></li>\n</ul>\n
LOCATION:Davie County Senior Center 278 Meroney Street\, Mocksville
UID:e.2378.4583
SEQUENCE:3
DTSTAMP:20260422T000036Z
URL:https://business.daviechamber.com/events/details/davie-county-job-fair-03-28-2016-4583
END:VEVENT

END:VCALENDAR
