BEGIN:VCALENDAR
VERSION:2.0
PRODID:-//ChamberMaster//Event Calendar 2.0//EN
METHOD:PUBLISH
X-PUBLISHED-TTL:P3D
REFRESH-INTERVAL:P3D
CALSCALE:GREGORIAN
BEGIN:VEVENT
DTSTART:20180511T220000Z
DTEND:20180511T040000Z
X-MICROSOFT-CDO-ALLDAYEVENT:FALSE
SUMMARY:Davie County Relay for Life
DESCRIPTION:The American Cancer Society Relay for Life movement is the world's largest and most impactful fundraising event to end cancer.  It unites communities across the globe to celebrate people who have battled cancer\, remember loved ones lost\, and to take action to finish the fight once and for all!!
X-ALT-DESC;FMTTYPE=text/html:The American Cancer Society Relay for Life movement is the world&#39\;s largest and most impactful fundraising event to end cancer.&nbsp\; It unites communities across the globe to celebrate people who have battled cancer\, remember loved ones lost\, and to take action to finish the fight once and for all!!<br />\n&nbsp\;
LOCATION:Old Davie High School 1200 Salisbury Road Mocksville
UID:e.2378.13326
SEQUENCE:3
DTSTAMP:20260421T143252Z
URL:https://business.daviechamber.com/events/details/davie-county-relay-for-life-13326
END:VEVENT

END:VCALENDAR
