BEGIN:VCALENDAR
VERSION:2.0
PRODID:-//ChamberMaster//Event Calendar 2.0//EN
METHOD:PUBLISH
X-PUBLISHED-TTL:P3D
REFRESH-INTERVAL:P3D
CALSCALE:GREGORIAN
BEGIN:VEVENT
DTSTART:20150821T123000Z
DTEND:20150821T190000Z
X-MICROSOFT-CDO-ALLDAYEVENT:FALSE
SUMMARY:Davie Domestic Violence Services & Rape Crisis Center Annual Conference
DESCRIPTION:Davie Domestic Violence Services & Rape Crisis Center Annual Conference\n\nOffender Focused Domestic Violence Initiative:  The First Two Years\n\nPresented by:\n\nCaptain Tim Ellenberger of the High Point Police Department\n\n8:30 am - 3:00 pm\n\nFirst Baptist Church Mocksville\n\n390 North Main Street\n\nMocksville\, NC  27028
X-ALT-DESC;FMTTYPE=text/html:Davie Domestic Violence Services &amp\; Rape Crisis Center Annual Conference<br />\nOffender Focused Domestic Violence Initiative:&nbsp\; The First Two Years<br />\nPresented by:<br />\nCaptain Tim Ellenberger of the High Point Police Department<br />\n8:30 am - 3:00 pm<br />\nFirst Baptist Church Mocksville<br />\n390 North Main Street<br />\nMocksville\, NC&nbsp\; 27028
LOCATION:First Baptist Church of Mocksville 390 North Main Street Mocksville\, NC 27028
UID:e.2378.943
SEQUENCE:3
DTSTAMP:20260422T102126Z
URL:https://business.daviechamber.com/events/details/davie-domestic-violence-services-rape-crisis-center-annual-conference-08-21-2015-943
END:VEVENT

END:VCALENDAR
