BEGIN:VCALENDAR
VERSION:2.0
PRODID:-//ChamberMaster//Event Calendar 2.0//EN
METHOD:PUBLISH
X-PUBLISHED-TTL:P3D
REFRESH-INTERVAL:P3D
CALSCALE:GREGORIAN
BEGIN:VEVENT
DTSTART:20260324T153000Z
DTEND:20260324T170000Z
X-MICROSOFT-CDO-ALLDAYEVENT:FALSE
SUMMARY:Chamber Monthly Meeting
DESCRIPTION:This is an exclusive Chamber member networking event held at the Mocksville Education Center every third Tuesday of the month\, designed to provide multiple opportunities to connect\, share ideas\, and build lasting relationships with fellow business owners and professionals in our community.
X-ALT-DESC;FMTTYPE=text/html:This is an exclusive Chamber member networking event held at the Mocksville Education Center every third Tuesday of the month\, designed to provide multiple opportunities to connect\, share ideas\, and build lasting relationships with fellow business owners and professionals in our community.\n<p style="box-sizing: border-box\; margin: 5px 0px\; padding: 0px\; list-style-type: none\; line-height: 15px\; font-family: Arial\, &quot\;Helvetica Neue&quot\;\, Helvetica\, sans-serif\; font-size: 11px\; color: rgb(68\, 68\, 68)\;">&nbsp\;</p>\n
LOCATION:Mocksville Education Center
UID:e.2378.13875
SEQUENCE:3
DTSTAMP:20260424T105635Z
URL:https://business.daviechamber.com/events/details/dc-networks-let-s-do-lunch-learn-monthly-meeting-03-24-2026-13875
END:VEVENT

END:VCALENDAR
