BEGIN:VCALENDAR
VERSION:2.0
PRODID:-//ChamberMaster//Event Calendar 2.0//EN
METHOD:PUBLISH
X-PUBLISHED-TTL:P3D
REFRESH-INTERVAL:P3D
CALSCALE:GREGORIAN
BEGIN:VEVENT
DTSTART:20151110T223000Z
DTEND:20151111T000000Z
X-MICROSOFT-CDO-ALLDAYEVENT:FALSE
SUMMARY:DCCC Community Connections Event
DESCRIPTION:Davidson County Community College will be holding a Community Connections Night for local employers to network with current DCCC administrators and faculty\, as well as students who could be highly qualified potential employees in the future. We look forward to talking with employers about the variety of programs that DCCC offers to the community\, including several new programs launched this year. Join us for this exciting event!
X-ALT-DESC;FMTTYPE=text/html:Davidson County Community College will be holding a Community Connections Night for local employers to network with current DCCC administrators and faculty\, as well as students who could be highly qualified potential employees in the future. We look forward to talking with employers about the variety of programs that DCCC offers to the community\, including several new programs launched this year. Join us for this exciting event!
LOCATION:Mary Rittling Conference Center 297 DCCC Road\, Thomasville\, 27360
UID:e.2378.4247
SEQUENCE:3
DTSTAMP:20260422T072331Z
URL:https://business.daviechamber.com/events/details/dccc-community-connections-event-11-10-2015-4247
END:VEVENT

END:VCALENDAR
