BEGIN:VCALENDAR
VERSION:2.0
PRODID:-//ChamberMaster//Event Calendar 2.0//EN
METHOD:PUBLISH
X-PUBLISHED-TTL:P3D
REFRESH-INTERVAL:P3D
CALSCALE:GREGORIAN
BEGIN:VEVENT
DTSTART:20151109T130000Z
DTEND:20151109T220000Z
X-MICROSOFT-CDO-ALLDAYEVENT:FALSE
SUMMARY:Deadline for Veterans Day Poster and Essay Contest
DESCRIPTION:Topic: How should we honor true heroes?\n\nPoster: K - 5th Grade\n\nEssay: 6th - 12th Grade\n\n\n\nThe top essay winners will be asked to read their essays at the observance.\n\n\n\nThe top poster winners will be asked to explain their posters at the observance.\n\n(All entires become the property of the Veteran's Day Committee)
X-ALT-DESC;FMTTYPE=text/html:Topic: How should we honor true heroes?<br />\nPoster: K - 5th Grade<br />\nEssay: 6th - 12th Grade<br />\n<br />\nThe top essay winners will be asked to read their essays at the observance.<br />\n<br />\nThe top poster winners will be asked to explain their posters at the observance.<br />\n<strong><em><span style="font-size:10px\;">(All entires become the property of the Veteran&#39\;s Day Committee)</span></em></strong>
LOCATION:Piedmont Legal Associates\, PA 124 West Depot Street\, Mocksville
UID:e.2378.4282
SEQUENCE:3
DTSTAMP:20260422T072628Z
URL:https://business.daviechamber.com/events/details/deadline-for-veterans-day-poster-and-essay-contest-11-09-2015-4282
END:VEVENT

END:VCALENDAR
