BEGIN:VCALENDAR
VERSION:2.0
PRODID:-//ChamberMaster//Event Calendar 2.0//EN
METHOD:PUBLISH
X-PUBLISHED-TTL:P3D
REFRESH-INTERVAL:P3D
CALSCALE:GREGORIAN
BEGIN:VEVENT
DTSTART:20170121T180000Z
DTEND:20170121T180000Z
X-MICROSOFT-CDO-ALLDAYEVENT:FALSE
SUMMARY:Delicious Soups Cooking Class @ Davie Medical Center
DESCRIPTION:Join BestHealth's Certified Chef N'gai to learn how to prepare delicious soups for the winter. Pre-registration is required.
X-ALT-DESC;FMTTYPE=text/html:Join BestHealth&#39\;s&nbsp\;Certified Chef N&#39\;gai&nbsp\;to learn how to prepare delicious soups for the winter. Pre-registration is required.
LOCATION:Wake Forest Baptist Health - Davie Medical Center Plaza 1\, 1st Floor\, Cardiac Classroom 313 NC Hwy 801 N Bermuda Run\, NC 27006
UID:e.2378.10909
SEQUENCE:3
DTSTAMP:20260421T103404Z
URL:https://business.daviechamber.com/events/details/delicious-soups-cooking-class-davie-medical-center-10909
END:VEVENT

END:VCALENDAR
