BEGIN:VCALENDAR
VERSION:2.0
PRODID:-//ChamberMaster//Event Calendar 2.0//EN
METHOD:PUBLISH
X-PUBLISHED-TTL:P3D
REFRESH-INTERVAL:P3D
CALSCALE:GREGORIAN
BEGIN:VEVENT
DTSTART:20161117T160000Z
DTEND:20161224T230000Z
X-MICROSOFT-CDO-ALLDAYEVENT:FALSE
SUMMARY:Dewey's Holiday Store
DESCRIPTION:Davie County High School Bands are once again operating a Dewey's Bakery Holiday Store in Downtown Mocksville. Open 7 days a week (Mon-Sat 11 to 6 and Sunday 1 to 5)\, the store offers a great selection of your Dewey's Bakery favorite goodies.
X-ALT-DESC;FMTTYPE=text/html:Davie County High School Bands are once again operating a Dewey&#39\;s Bakery Holiday Store in Downtown Mocksville. Open 7 days a week (Mon-Sat 11 to 6 and Sunday 1 to 5)\, the store offers a great selection of your Dewey&#39\;s Bakery favorite goodies.
LOCATION:157 North Main Street Mocksville\, NC 27028
UID:e.2378.10816
SEQUENCE:3
DTSTAMP:20260422T141143Z
URL:https://business.daviechamber.com/events/details/dewey-s-holiday-store-10816
END:VEVENT

END:VCALENDAR
