BEGIN:VCALENDAR
VERSION:2.0
PRODID:-//ChamberMaster//Event Calendar 2.0//EN
METHOD:PUBLISH
X-PUBLISHED-TTL:P3D
REFRESH-INTERVAL:P3D
CALSCALE:GREGORIAN
BEGIN:VEVENT
DTSTART:20160428T140000Z
DTEND:20160428T160000Z
X-MICROSOFT-CDO-ALLDAYEVENT:FALSE
SUMMARY:Diabetes Empowerment Educations Program (DEEP)
DESCRIPTION:This class is a hands-on\, fun workshop for those who are interested in learning more about diabetes. We will learn about risks and causes of diabetes\, and how to control it through healthy eating\, activity and working with your diabetes care team. We will also learn about how diabetes affects the entire body and learn ways to reduce the stress often associated with living with a chronic condition. Individuals with diabetes and their family or support partners are encouraged to attend. Alliant Quality will instruct this class.
X-ALT-DESC;FMTTYPE=text/html:This class is a hands-on\, fun workshop for those who are interested in learning more about diabetes. We will learn about risks and causes of diabetes\, and how to control it through healthy eating\, activity and working with your diabetes care team. We will also learn about how diabetes affects the entire body and learn ways to reduce the stress often associated with living with a chronic condition. Individuals with diabetes and their family or support partners are encouraged to attend. Alliant Quality will instruct this class.
LOCATION:Bobby H. Knight Senior Services Building 278 Meroney Street Mocksville\, NC 27028
UID:e.2378.4962
SEQUENCE:3
DTSTAMP:20260421T223111Z
URL:https://business.daviechamber.com/events/details/diabetes-empowerment-educations-program-deep-04-28-2016-4962
END:VEVENT

END:VCALENDAR
