BEGIN:VCALENDAR
VERSION:2.0
PRODID:-//ChamberMaster//Event Calendar 2.0//EN
METHOD:PUBLISH
X-PUBLISHED-TTL:P3D
REFRESH-INTERVAL:P3D
CALSCALE:GREGORIAN
BEGIN:VEVENT
DTSTART:20150728T210000Z
DTEND:20150729T000000Z
X-MICROSOFT-CDO-ALLDAYEVENT:FALSE
SUMMARY:Dine For Kids' Sake @ Zaxby's
DESCRIPTION:Community Night at Zaxby's Supporting Big Brothers Big Sisters.  A portion of the proceeds will go to Big Brother Big Sisters Services\, Inc.
X-ALT-DESC;FMTTYPE=text/html:Community Night at Zaxby&#39\;s Supporting Big Brothers Big Sisters.&nbsp\; A portion of the proceeds will go to Big Brother Big Sisters Services\, Inc.
LOCATION:5337 US Hwy 158 Advance\, NC 27006
UID:e.2378.876
SEQUENCE:3
DTSTAMP:20260423T152705Z
URL:https://business.daviechamber.com/events/details/dine-for-kids-sake-zaxby-s-07-28-2015-876
END:VEVENT

END:VCALENDAR
