BEGIN:VCALENDAR
VERSION:2.0
PRODID:-//ChamberMaster//Event Calendar 2.0//EN
METHOD:PUBLISH
X-PUBLISHED-TTL:P3D
REFRESH-INTERVAL:P3D
CALSCALE:GREGORIAN
BEGIN:VEVENT
DTSTART:20250619T223000Z
DTEND:20250619T223000Z
X-MICROSOFT-CDO-ALLDAYEVENT:FALSE
SUMMARY:Dinner and Music with Kiley Smith | O' Callahans
DESCRIPTION:Looking for a fun night of music and dinner to celebrate baby Friday? Kiley Smith is the perfect way to kick your weekend off right!
X-ALT-DESC;FMTTYPE=text/html:<span style="color: rgb(8\, 8\, 9)\; font-family: &quot\;Segoe UI Historic&quot\;\, &quot\;Segoe UI&quot\;\, Helvetica\, Arial\, sans-serif\; font-size: 15px\;">Looking for a fun night of music and dinner to celebrate baby Friday? Kiley Smith is the perfect way to kick your weekend off right!</span>
LOCATION:O' Callahans
UID:e.2378.27311
SEQUENCE:3
DTSTAMP:20260425T221046Z
URL:https://business.daviechamber.com/events/details/dinner-and-music-with-kiley-smith-o-callahans-27311
END:VEVENT

END:VCALENDAR
