BEGIN:VCALENDAR
VERSION:2.0
PRODID:-//ChamberMaster//Event Calendar 2.0//EN
METHOD:PUBLISH
X-PUBLISHED-TTL:P3D
REFRESH-INTERVAL:P3D
CALSCALE:GREGORIAN
BEGIN:VEVENT
DTSTART:20230317T190000Z
DTEND:20230317T230000Z
X-MICROSOFT-CDO-ALLDAYEVENT:FALSE
SUMMARY:DonutNV at Advance Fire Department
DESCRIPTION:Advance Fire Dept Friday 3/17/23 from 3-7pm. We will be serving up our Sweet awesome regular flavors. We will also have our limited edition lucky charms mini donuts and fresh squeezed lucky lemonade (kiwi).
X-ALT-DESC;FMTTYPE=text/html:<span style="color: rgb(5\, 5\, 5)\; font-family: &quot\;Segoe UI Historic&quot\;\, &quot\;Segoe UI&quot\;\, Helvetica\, Arial\, sans-serif\; font-size: 15px\; white-space: pre-wrap\;">Advance Fire Dept Friday 3/17/23 from 3-7pm. We will be serving up our Sweet awesome regular flavors. We will also have our limited edition lucky charms mini donuts and fresh squeezed lucky lemonade (kiwi).</span>
LOCATION:Advance Fire Department
UID:e.2378.22804
SEQUENCE:3
DTSTAMP:20260424T103055Z
URL:https://business.daviechamber.com/events/details/donutnv-at-advance-fire-department-22804
END:VEVENT

END:VCALENDAR
