BEGIN:VCALENDAR
VERSION:2.0
PRODID:-//ChamberMaster//Event Calendar 2.0//EN
METHOD:PUBLISH
X-PUBLISHED-TTL:P3D
REFRESH-INTERVAL:P3D
CALSCALE:GREGORIAN
BEGIN:VEVENT
DTSTART:20230728T213000Z
DTEND:20230729T003000Z
X-MICROSOFT-CDO-ALLDAYEVENT:FALSE
SUMMARY:Drift Along Pizza Food Truck
DESCRIPTION:Enjoy delicious pizza and the BEST flatbread around at The Station in Downtown Mocksville this Friday night!
X-ALT-DESC;FMTTYPE=text/html:<p><span style="color:#333333\;"><span style="font-size:18px\;"><span style="font-family:tahoma\;">Enjoy delicious pizza and the BEST flatbread around at The Station in Downtown Mocksville this Friday night!</span></span></span></p>\n
LOCATION:The Station
UID:e.2378.23106
SEQUENCE:3
DTSTAMP:20260425T215012Z
URL:https://business.daviechamber.com/events/details/drift-along-pizza-food-truck-23106
END:VEVENT

END:VCALENDAR
