BEGIN:VCALENDAR
VERSION:2.0
PRODID:-//ChamberMaster//Event Calendar 2.0//EN
METHOD:PUBLISH
X-PUBLISHED-TTL:P3D
REFRESH-INTERVAL:P3D
CALSCALE:GREGORIAN
BEGIN:VEVENT
DTSTART:20230805T210000Z
DTEND:20230806T010000Z
X-MICROSOFT-CDO-ALLDAYEVENT:FALSE
SUMMARY:Drift Along Pizza Food Truck
DESCRIPTION:Enjoy delicious pizza and the BEST flatbread around at The Station in Downtown Mocksville this Friday night!
X-ALT-DESC;FMTTYPE=text/html:<span style="font-family: tahoma\; font-size: 18px\;">Enjoy delicious pizza and the BEST flatbread around at The Station in Downtown Mocksville this Friday night!</span>
LOCATION:The Station
UID:e.2378.23136
SEQUENCE:3
DTSTAMP:20260425T201729Z
URL:https://business.daviechamber.com/events/details/drift-along-pizza-food-truck-23136
END:VEVENT

END:VCALENDAR
