BEGIN:VCALENDAR
VERSION:2.0
PRODID:-//ChamberMaster//Event Calendar 2.0//EN
METHOD:PUBLISH
X-PUBLISHED-TTL:P3D
REFRESH-INTERVAL:P3D
CALSCALE:GREGORIAN
BEGIN:VEVENT
DTSTART:20161022T150000Z
DTEND:20161022T210000Z
X-MICROSOFT-CDO-ALLDAYEVENT:FALSE
SUMMARY:Drinks & Dogs
DESCRIPTION:Join us for a doggie-filled day at RayLen as we partner with Humane Society of Davie County again this fall. Enjoy hot dogs from Gunny Smitty's Hot Dogs\, dog friendly vendors including Wag Boutique\, K9 Doggie Bakery\, Pawsitively Pet Sitting\, SVM Photography\, doTERRA International and even a "water-tasting station" for the pups. A photographer will be on site snapping pictures of you and your pups and will be available for purchase. Ticket purchase includes a complimentary glass of wine and all proceeds go to the HSDC. K9 Doggie Bakery & Aristopets will be on site with awesome merchandise available for purchase.\n\n\n\nA $5 (or more!) donation or an item donation from the HSDC Wish List will be accepted for entry and you will recieve a drink ticket for your complimentary glass of wine at the gate. The HSDC Wish List is listed below and the items can be brought to the gate the day of. No reservations are required and this event is open to the public. \n\n\n\nChairs\, tents and picnic baskets are welcome. No outside alcohol. Mark your calendars! Please call our tasting room for more information at 336-998-3100. Rain or shine.\n\n\n\nHSDC Wishlist:\n\nPedigree Puppy Food\n\nPurina One Adult Cat Food Salmon Flavor\n\nPurina Kitten Chow\n\nSmall\, Medium\, & Large collars\n\nSmall\, Medium\, & Large harnesses\n\nPaper Towels\n\nBleach\n\nToilet Paper\n\nWhite Distilled Vinegar\n\nFinish All in One Dish Soap\n\nLaundry Soap\n\nDog & Cat Toys\n\nNew or gently used Blankets & Towels
X-ALT-DESC;FMTTYPE=text/html:<span style="font-size:18px\;"><span style="font-family:arial\;"><span style="color: rgb(75\, 79\, 86)\; background-color: rgb(255\, 255\, 255)\;">Join us for a doggie-filled day at RayLen as we partner with&nbsp\;</span>Humane Society of Davie County<span style="color: rgb(75\, 79\, 86)\; background-color: rgb(255\, 255\, 255)\;">&nbsp\;again this fall. Enjoy hot dogs from&nbsp\;</span>Gunny Smitty&#39\;s Hot Dogs<span style="color: rgb(75\, 79\, 86)\; background-color: rgb(255\, 255\, 255)\;">\, dog friendly vendors including&nbsp\;</span>Wag Boutique<span style="color: rgb(75\, 79\, 86)\; background-color: rgb(255\, 255\, 255)\;">\,&nbsp\;</span>K9 Doggie Bakery<span style="color: rgb(75\, 79\, 86)\; background-color: rgb(255\, 255\, 255)\;">\,&nbsp\;</span>Pawsitively Pet Sitting<span style="color: rgb(75\, 79\, 86)\; background-color: rgb(255\, 255\, 255)\;">\,&nbsp\;</span>SVM Photography<span style="color: rgb(75\, 79\, 86)\; background-color: rgb(255\, 255\, 255)\;">\,&nbsp\;</span>doTERRA International<span style="color: rgb(75\, 79\, 86)\; background-color: rgb(255\, 255\, 255)\;">&nbsp\;and even a &quot\;water-tasting station&quot\; for the pups. A photographer will be on site snapping pictures of you and your pups and will be available for purchase. Ticket purchase includes a complimentary glass of wine and all proceeds go to the HSDC. K9 Doggie Bakery &amp\; Aristopets will be on site with awesome merchandise available for purchase.</span><br style="color: rgb(75\, 79\, 86)\; font-family: helvetica\, arial\, sans-serif\; font-size: 14px\; background-color: rgb(255\, 255\, 255)\;" />\n<br style="color: rgb(75\, 79\, 86)\; font-family: helvetica\, arial\, sans-serif\; font-size: 14px\; background-color: rgb(255\, 255\, 255)\;" />\n<span style="color: rgb(75\, 79\, 86)\; background-color: rgb(255\, 255\, 255)\;">A $5 (or more!) donation or an item donation from the HSDC Wish List will be accepted for entry an</span><span class="text_exposed_show" style="display: inline\; color: rgb(75\, 79\, 86)\; background-color: rgb(255\, 255\, 255)\;">d you will recieve a drink ticket for your complimentary glass of wine at the gate. The HSDC Wish List is listed below and the items can be brought to the gate the day of. No reservations are required and this event is open to the public.&nbsp\;<br />\n<br />\nChairs\, tents and picnic baskets are welcome. No outside alcohol. Mark your calendars! Please call our tasting room for more information at 336-998-3100. Rain or shine.<br />\n<br />\nHSDC Wishlist:<br />\nPedigree Puppy Food<br />\nPurina One Adult Cat Food Salmon Flavor<br />\nPurina Kitten Chow<br />\nSmall\, Medium\, &amp\; Large collars<br />\nSmall\, Medium\, &amp\; Large harnesses<br />\nPaper Towels<br />\nBleach<br />\nToilet Paper<br />\nWhite Distilled Vinegar<br />\nFinish All in One Dish Soap<br />\nLaundry Soap<br />\nDog &amp\; Cat Toys<br />\nNew or gently used Blankets &amp\; Towels</span></span></span>
LOCATION:Raylen Vineyards & Winery
UID:e.2378.9899
SEQUENCE:3
DTSTAMP:20260422T190626Z
URL:https://business.daviechamber.com/events/details/drinks-dogs-9899
END:VEVENT

END:VCALENDAR
