BEGIN:VCALENDAR
VERSION:2.0
PRODID:-//ChamberMaster//Event Calendar 2.0//EN
METHOD:PUBLISH
X-PUBLISHED-TTL:P3D
REFRESH-INTERVAL:P3D
CALSCALE:GREGORIAN
BEGIN:VEVENT
DTSTART:20151121T000000Z
DTEND:20151121T030000Z
X-MICROSOFT-CDO-ALLDAYEVENT:FALSE
SUMMARY:Dueling Piano Night
DESCRIPTION:Dueling Piano Night for Toys for Tots.\n\nPlease bring an unwrapped toy for Toys For Tots valued at $10 or more.
X-ALT-DESC;FMTTYPE=text/html:Dueling Piano Night for Toys for Tots.<br />\nPlease bring an unwrapped toy for Toys For Tots valued at $10 or more.<br />\n&nbsp\;
LOCATION:WinMock at Kinderton 168 E Kinderton Way\, Bermuda Run\, NC 27006
UID:e.2378.3996
SEQUENCE:3
DTSTAMP:20260423T095126Z
URL:https://business.daviechamber.com/events/details/dueling-piano-night-11-20-2015-3996
END:VEVENT

END:VCALENDAR
