BEGIN:VCALENDAR
VERSION:2.0
PRODID:-//ChamberMaster//Event Calendar 2.0//EN
METHOD:PUBLISH
X-PUBLISHED-TTL:P3D
REFRESH-INTERVAL:P3D
CALSCALE:GREGORIAN
BEGIN:VEVENT
DTSTART:20251025T200000Z
DTEND:20251025T230000Z
X-MICROSOFT-CDO-ALLDAYEVENT:FALSE
SUMMARY:Dulin Church Trunk or Treat\, Chicken Stew and Bluegrass
DESCRIPTION:Join of for a fun filled night of fellowship\, delicious chicken stew/hot dog dinner and Bluegrass by Mona Jo and Friends! Bring the kiddos to enjoy the trunk of treat!
X-ALT-DESC;FMTTYPE=text/html:<span style="font-family:tahoma\;"><span style="font-size:16px\;"><span style="color: rgb(8\, 8\, 9)\;">Join of for a fun filled night of fellowship\, delicious chicken stew/hot dog dinner and Bluegrass by Mona Jo and Friends! Bring the kiddos to enjoy the trunk of treat!</span></span></span>
LOCATION:Dulin Church | Mocksville
UID:e.2378.28936
SEQUENCE:3
DTSTAMP:20260425T221242Z
URL:https://business.daviechamber.com/events/details/dulin-church-trunk-or-treat-chicken-stew-and-bluegrass-28936
END:VEVENT

END:VCALENDAR
