BEGIN:VCALENDAR
VERSION:2.0
PRODID:-//ChamberMaster//Event Calendar 2.0//EN
METHOD:PUBLISH
X-PUBLISHED-TTL:P3D
REFRESH-INTERVAL:P3D
CALSCALE:GREGORIAN
BEGIN:VEVENT
DTSTART:20250426T140000Z
DTEND:20250426T160000Z
X-MICROSOFT-CDO-ALLDAYEVENT:FALSE
SUMMARY:Earthfest 2025 | Davie County Community Park
DESCRIPTION:Volunteer at Earthfest!\n\nEarthFest celebrates a greener\, healthier community. DCRP is hosting an Earth Day Celebration that includes volunteer clean-up\, tree planting\, and flower planting! We want you to be part of a special project designed to "Protect Your Happy Place."\n\nEach pre-registered volunteer will receive a t-shirt\, snacks\, and all the supplies they need to have a successful 'feel good' day!! *For anyone needing proof of community service\, DCRP will provide a "Service Completion" letter once your shift has ended.* There will only be 50 total t-shirts available!!***\n\nVolunteer Shift Information:\n\nDate: Saturday\, April 26\, 2025\n\nTime: 10:00 a.m.   12:00 p.m.\n\nDuties: Tree Planting & Environmental Clean-up\n\nLocation: Davie County Community Park\n\n\n\nVOLUNTEER
X-ALT-DESC;FMTTYPE=text/html:<div class="xdj266r x11i5rnm xat24cr x1mh8g0r x1vvkbs" style="margin: 0px\; overflow-wrap: break-word\; font-family: &quot\;Segoe UI Historic&quot\;\, &quot\;Segoe UI&quot\;\, Helvetica\, Arial\, sans-serif\; color: rgb(8\, 8\, 9)\; font-size: 15px\;"><span style="font-family:tahoma\;"><span style="color:#000000\;">Volunteer at Earthfest!<br class="html-br" />\nEarthFest celebrates a greener\, healthier community. DCRP is hosting an Earth Day Celebration that includes volunteer clean-up\, tree planting\, and flower planting! We want you to be part of a special project designed to &ldquo\;Protect Your Happy Place.&rdquo\;</span></span></div>\n\n<div class="x11i5rnm xat24cr x1mh8g0r x1vvkbs xtlvy1s" style="margin: 0.5em 0px 0px\; overflow-wrap: break-word\; font-family: &quot\;Segoe UI Historic&quot\;\, &quot\;Segoe UI&quot\;\, Helvetica\, Arial\, sans-serif\; color: rgb(8\, 8\, 9)\; font-size: 15px\;"><span style="font-family:tahoma\;"><span style="color:#000000\;">Each pre-registered volunteer will receive a t-shirt\, snacks\, and all the supplies they need to have a successful &lsquo\;feel good&rsquo\; day!! *For anyone needing proof of community service\, DCRP will provide a &ldquo\;Service Completion&rdquo\; letter once your shift has ended.* There will only be 50 total t-shirts available!!***</span></span></div>\n\n<div class="x11i5rnm xat24cr x1mh8g0r x1vvkbs xtlvy1s" style="margin: 0.5em 0px 0px\; overflow-wrap: break-word\; font-family: &quot\;Segoe UI Historic&quot\;\, &quot\;Segoe UI&quot\;\, Helvetica\, Arial\, sans-serif\; color: rgb(8\, 8\, 9)\; font-size: 15px\;"><span style="font-family:tahoma\;"><span style="color:#000000\;">Volunteer Shift Information:<br class="html-br" />\nDate: Saturday\, April 26\, 2025<br class="html-br" />\nTime: 10:00 a.m. &ndash\; 12:00 p.m.<br class="html-br" />\nDuties: Tree Planting &amp\; Environmental Clean-up<br class="html-br" />\nLocation: Davie County Community Park<br />\n<br />\n<u><strong><a href="https://anc.apm.activecommunities.com/dcrpteam/activity/search/detail/4744?onlineSiteId=0&amp\;from_original_cui=true&amp\;fbclid=IwY2xjawJjhKhleHRuA2FlbQIxMAABHu8k7v5hor8nq-4_wsqZebY757iQGEO9J4uztf_CLoT6OAEAWsiZDNbAW-Nl_aem_dGUelmU0uc7UmCpfidDphw">VOLUNTEER</a></strong></u></span></span></div>\n
LOCATION:Davie County Community Park
UID:e.2378.25544
SEQUENCE:3
DTSTAMP:20260426T005437Z
URL:https://business.daviechamber.com/events/details/earthfest-2025-davie-county-community-park-25544
END:VEVENT

END:VCALENDAR
