BEGIN:VCALENDAR
VERSION:2.0
PRODID:-//ChamberMaster//Event Calendar 2.0//EN
METHOD:PUBLISH
X-PUBLISHED-TTL:P3D
REFRESH-INTERVAL:P3D
CALSCALE:GREGORIAN
BEGIN:VEVENT
DTSTART:20230716T180000Z
DTEND:20230716T210000Z
X-MICROSOFT-CDO-ALLDAYEVENT:FALSE
SUMMARY:Elena M at The Station General Store & Taproom
DESCRIPTION:Singer songwriter Elena M makes her debut at The Station!\n\nJoined by Jefferson Dalby on the keys.\n\nDelicious beers / ciders on tap\n\nFamily friendly / pet friendly
X-ALT-DESC;FMTTYPE=text/html:<span style="font-size:18px\;"><span style="font-family:tahoma\;"><span style="color:#666666\;">Singer songwriter Elena M makes her debut at The Station!<br style="color: rgb(5\, 5\, 5)\; font-family: &quot\;Segoe UI Historic&quot\;\, &quot\;Segoe UI&quot\;\, Helvetica\, Arial\, sans-serif\; font-size: 15px\;" />\nJoined by Jefferson Dalby on the keys.<br style="color: rgb(5\, 5\, 5)\; font-family: &quot\;Segoe UI Historic&quot\;\, &quot\;Segoe UI&quot\;\, Helvetica\, Arial\, sans-serif\; font-size: 15px\;" />\nDelicious beers / ciders on tap</span></span></span><br />\n<span style="color:#666666\;"><span style="font-size:18px\;"><span style="font-family:tahoma\;">Family friendly / pet friendly</span></span></span>
LOCATION:The Station
UID:e.2378.23079
SEQUENCE:3
DTSTAMP:20260425T215110Z
URL:https://business.daviechamber.com/events/details/elena-m-at-the-station-general-store-taproom-23079
END:VEVENT

END:VCALENDAR
